BEGIN:VCALENDAR
VERSION:2.0
PRODID:-//Nudos - ECPv4.6.20.1//NONSGML v1.0//EN
CALSCALE:GREGORIAN
METHOD:PUBLISH
X-WR-CALNAME:Nudos
X-ORIGINAL-URL:https://www.clubdeocionudos.com
X-WR-CALDESC:Events for Nudos
BEGIN:VEVENT
DTSTART;TZID=Europe/Madrid:20171125T080000
DTEND;TZID=Europe/Madrid:20171125T170000
DTSTAMP:20260420T074747
CREATED:20171116T132048Z
LAST-MODIFIED:20171123T094327Z
UID:7846-1511596800-1511629200@www.clubdeocionudos.com
SUMMARY:WILSON WORLD DEMO TOUR
DESCRIPTION:WILSON WORLD DEMO TOUR en Club de Ocio Nudos\n¡Aprovecha la oportunidad de poder probar los últimos modelos de palas y raquetas Wilson\, y llévate un regalo a casa!\n\n \nInscríbete en el siguiente Link:\nhttps://wdt.wilson.com/events/wwdt-club-de-ocio-nudos/?lang=es\n  \n
URL:https://www.clubdeocionudos.com/evento/wilson-world-demo-tour/
LOCATION:Carretera Nacional 430\, km 304\, Ciudad Real\, Ciudad Real\, 13005\, España
CATEGORIES:Actividades deportivas,Americano Padel,Clases de Padel infantil,Clases de Tenis infantil,Clases Padel,Clases Tenis,Cursos Padel,Cursos Tenis,Evento
ATTACH;FMTTYPE=image/jpeg:https://www.clubdeocionudos.com/wp-content/uploads/2017/11/demo-wilson17-Ok.jpg
ORGANIZER;CN="Club%20de%20Ocio%20Nudos":MAILTO:info@clubdeocionudos.com
END:VEVENT
END:VCALENDAR