BEGIN:VCALENDAR
VERSION:2.0
PRODID:-//Nudos - ECPv4.6.20.1//NONSGML v1.0//EN
CALSCALE:GREGORIAN
METHOD:PUBLISH
X-WR-CALNAME:Nudos
X-ORIGINAL-URL:https://www.clubdeocionudos.com
X-WR-CALDESC:Events for Nudos
BEGIN:VEVENT
DTSTART;TZID=Europe/Madrid:20150509T110000
DTEND;TZID=Europe/Madrid:20150509T130000
DTSTAMP:20260422T083621
CREATED:20150421T151231Z
LAST-MODIFIED:20150506T101757Z
UID:1724-1431169200-1431176400@www.clubdeocionudos.com
SUMMARY:WILSON EXPERIENCE
DESCRIPTION:DISFRUTA DE UN DÍA 100% WILSON Y PRUEBA EL NUEVO MATERIAL 2015 DE LA MANO DE LOS MAYORES EXPERTOS. \n \n¿QUÉ ES? \nLas Wilson Experience consisten en un evento GRATUITO organizado por Wilson con la colaboración del Club de Ocio Nudos. En el evento se realizarán test de producto Wilson (tanto las nuevas raquetas\, como el nuevo calzado 2015). El evento contará con la presencia de entrenadores de la zona\, jugadores Wilson y todo un equipo de expertos de la marca que puedan atender las necesidades de los usuarios. \nCon la visita y participación de Cristian Gutierrez\, jugador del top 10 del World Padel Tour.\n \nTE ESPERAMOS EL PRÓXIMO  09/05/15\nDE 11 A 13H EN\nCLUB DE OCIO NUDOS \n
URL:https://www.clubdeocionudos.com/evento/wilson-experience/
LOCATION:Carretera Nacional 430\, km 304\, Ciudad Real\, Ciudad Real\, 13005\, España
CATEGORIES:Evento
ATTACH;FMTTYPE=image/png:https://www.clubdeocionudos.com/wp-content/uploads/2015/04/MANUAL_CLUBS_A3_nudos.png
ORGANIZER;CN="Club%20de%20Ocio%20Nudos":MAILTO:info@clubdeocionudos.com
END:VEVENT
END:VCALENDAR