BEGIN:VCALENDAR
VERSION:2.0
PRODID:-//Nudos - ECPv4.6.20.1//NONSGML v1.0//EN
CALSCALE:GREGORIAN
METHOD:PUBLISH
X-WR-CALNAME:Nudos
X-ORIGINAL-URL:https://www.clubdeocionudos.com
X-WR-CALDESC:Events for Nudos
BEGIN:VEVENT
DTSTART;VALUE=DATE:20240524
DTEND;VALUE=DATE:20240527
DTSTAMP:20260425T172445
CREATED:20240428T092713Z
LAST-MODIFIED:20240428T092806Z
UID:13103-1716508800-1716767999@www.clubdeocionudos.com
SUMMARY:Torneo padel DKV (salud y bienestar)
DESCRIPTION:*🎾🎾🎾TORNEO DKV*🎾🎾🎾\nSUCURSAL CALLE CIRUELA 19\, Ciudad Real\n📅 FECHA\n*24/25/26 MAYO 2024* \n*‼️‼️IMPORTANTES PREMIOS en todas las categorias… +3000€ en total‼️‼️*\n*20€/pers* Inscripcion \n*WELCOME PACK*\ncamiseta tecnica + agua + fruta \n*CATEGORIAS* \n*1° MASCULINA A y B*\n*2° MASCULINA*\n*3° MASCULINA* \n*FEMENINA CATEGORÍA ÚNICA* \n*❌CIERRE DE INSCRIPCIÓN*\n🔸 MARTES 21 MAYO \nInscripción por teléfono \n  📲  *666394335* Martín\n📲 *664046858* Carlos\n📲 *675912011* Recepción\n📲  *926233090*\nClub de Ocio Nudos \n  \n  \n \n
URL:https://www.clubdeocionudos.com/evento/torneo-padel-dkv/
LOCATION:Carretera Nacional 430\, km 304\, Ciudad Real\, Ciudad Real\, 13005\, España
CATEGORIES:Actividades deportivas,Padel,Torneo de Padel
ATTACH;FMTTYPE=image/jpeg:https://www.clubdeocionudos.com/wp-content/uploads/2024/04/4d1c9487-c5c0-40a9-ad8a-f3c9b9f70d23.jpg
END:VEVENT
END:VCALENDAR