BEGIN:VCALENDAR
VERSION:2.0
PRODID:-//Nudos - ECPv4.6.20.1//NONSGML v1.0//EN
CALSCALE:GREGORIAN
METHOD:PUBLISH
X-WR-CALNAME:Nudos
X-ORIGINAL-URL:https://www.clubdeocionudos.com
X-WR-CALDESC:Events for Nudos
BEGIN:VEVENT
DTSTART;TZID=Europe/Madrid:20180113T090000
DTEND;TZID=Europe/Madrid:20180114T150000
DTSTAMP:20260422T195331
CREATED:20180102T121749Z
LAST-MODIFIED:20180103T091642Z
UID:8095-1515834000-1515942000@www.clubdeocionudos.com
SUMMARY:Territorial clasificatorio TYC 1
DESCRIPTION:¡Abierto el plazo de inscripción del primer torneo de pádel del nuevo año! En este caso se trata del TYC 1 territorial para las categorías benjamín\, alevín\, infantil\, cadete y junior tanto masculina como femenina y que sirve de clasificatorio para el TYC 1 nacional.¡¡Apuntante en www.padelcastillalamancha.es!!\n  \n  \n  \n  \n \n
URL:https://www.clubdeocionudos.com/evento/territorial-clasificatorio-tyc-1/
LOCATION:Carretera Nacional 430\, km 304\, Ciudad Real\, Ciudad Real\, 13005\, España
CATEGORIES:Torneo de Padel
ATTACH;FMTTYPE=image/jpeg:https://www.clubdeocionudos.com/wp-content/uploads/2018/01/cartel-web.jpg
ORGANIZER;CN="Club%20de%20Ocio%20Nudos":MAILTO:info@clubdeocionudos.com
END:VEVENT
END:VCALENDAR