BEGIN:VCALENDAR
VERSION:2.0
PRODID:-//Nudos - ECPv4.6.20.1//NONSGML v1.0//EN
CALSCALE:GREGORIAN
METHOD:PUBLISH
X-WR-CALNAME:Nudos
X-ORIGINAL-URL:https://www.clubdeocionudos.com
X-WR-CALDESC:Events for Nudos
BEGIN:VEVENT
DTSTART;VALUE=DATE:20260314
DTEND;VALUE=DATE:20260315
DTSTAMP:20260422T114647
CREATED:20260306T092515Z
LAST-MODIFIED:20260306T092515Z
UID:13821-1773446400-1773532799@www.clubdeocionudos.com
SUMMARY:TALLER PINTURA MAQUILLAJE CON NEÓN
DESCRIPTION:El próximo 14 de Marzo te invitamos a disfrutar de una actividad creativa y divertida en nuestra ludoteca con el taller MAQUILLAJE DE NEÓN! \n¡Una opción perfecta para que los niños disfruten de una noche completa de diversión! \nInformación y reservas:\nLlámanos al 639 611 204 para más información o para reservar tu plaza. \n¡No te quedes sin sitio y asegúrate una tarde mágica en el Club de Ocio Nudos \n  \n \n
URL:https://www.clubdeocionudos.com/evento/taller-pintura-maquillaje-con-neon/
CATEGORIES:Evento,familia,GYM,Ludoteca,Nudos Plaza
ATTACH;FMTTYPE=image/jpeg:https://www.clubdeocionudos.com/wp-content/uploads/2026/03/pinturaneon.jpg
END:VEVENT
END:VCALENDAR