BEGIN:VCALENDAR
VERSION:2.0
PRODID:-//Nudos - ECPv4.6.20.1//NONSGML v1.0//EN
CALSCALE:GREGORIAN
METHOD:PUBLISH
X-WR-CALNAME:Nudos
X-ORIGINAL-URL:https://www.clubdeocionudos.com
X-WR-CALDESC:Events for Nudos
BEGIN:VEVENT
DTSTART;TZID=Europe/Madrid:20170212T113000
DTEND;TZID=Europe/Madrid:20170212T133000
DTSTAMP:20260422T005339
CREATED:20170123T092921Z
LAST-MODIFIED:20170123T092921Z
UID:5851-1486899000-1486906200@www.clubdeocionudos.com
SUMMARY:TALLER LUDOTECA SAN VALENTÍN
DESCRIPTION:Participa en nuestra manualidad de SAN VALENTÍN de 11:30 a 13:30. \nNo olvides apuntarte en la ludoteca \n  \n \n \n
URL:https://www.clubdeocionudos.com/evento/taller-ludoteca-san-valentin/
CATEGORIES:Escuela Nudos Kids,Evento
ATTACH;FMTTYPE=image/jpeg:https://www.clubdeocionudos.com/wp-content/uploads/2017/01/TALLER-SAN-VALENTIN.jpg
ORGANIZER;CN="Ludoteca":MAILTO:ludoteca@clubdeocionudos.com
END:VEVENT
END:VCALENDAR