BEGIN:VCALENDAR
VERSION:2.0
PRODID:-//Nudos - ECPv4.6.20.1//NONSGML v1.0//EN
CALSCALE:GREGORIAN
METHOD:PUBLISH
X-WR-CALNAME:Nudos
X-ORIGINAL-URL:https://www.clubdeocionudos.com
X-WR-CALDESC:Events for Nudos
BEGIN:VEVENT
DTSTART;TZID=Europe/Madrid:20180430T090000
DTEND;TZID=Europe/Madrid:20180430T140000
DTSTAMP:20260424T225417
CREATED:20180416T113321Z
LAST-MODIFIED:20180416T113321Z
UID:8717-1525078800-1525096800@www.clubdeocionudos.com
SUMMARY:Taller "Día sin cole"
DESCRIPTION:Ven a participar al taller que tenemos preparado el próximo 30 de abril en nuestra ludoteca\, para este día tenemos preparado un montón de actividades (jumping\, bolera\, juegos\, pádel\, manualidades\, …).\nHorario: de 9:00 h a 14:00 h\nMatinal: de 8:00 h a 9:00 h (2€/niño)\nComedor: 14:00 h a 15:30 (5\,95€/niño)\n\nPrecio:\n       – ABONADOS: 7€ (incluye almuerzo)\n       – No abonado: 11€ (incluye almuerzo)\n \n
URL:https://www.clubdeocionudos.com/evento/taller-dia-sin-cole/
CATEGORIES:Ludoteca
ATTACH;FMTTYPE=image/jpeg:https://www.clubdeocionudos.com/wp-content/uploads/2018/04/taller-30-abril-2018.jpg
ORGANIZER;CN="Club%20de%20Ocio%20Nudos":MAILTO:info@clubdeocionudos.com
END:VEVENT
END:VCALENDAR