BEGIN:VCALENDAR
VERSION:2.0
PRODID:-//Nudos - ECPv4.6.20.1//NONSGML v1.0//EN
CALSCALE:GREGORIAN
METHOD:PUBLISH
X-WR-CALNAME:Nudos
X-ORIGINAL-URL:https://www.clubdeocionudos.com
X-WR-CALDESC:Events for Nudos
BEGIN:VEVENT
DTSTART;VALUE=DATE:20200301
DTEND;VALUE=DATE:20200302
DTSTAMP:20260422T051944
CREATED:20200310T104516Z
LAST-MODIFIED:20200317T124415Z
UID:11359-1583020800-1583107199@www.clubdeocionudos.com
SUMMARY:Taller Día sin cole
DESCRIPTION:¡¡¡APLAZADO HASTA NUEVA FECHA!!!\n\nVen a participar al taller que tenemos preparado el próximo XXXX en nuestra ludoteca\, para este día tenemos preparado un montón de actividades (jumping\, bolera\, juegos\, pádel\, manualidades\, …).\nHorario: de 9:00 h a 14:00 h\nMatinal: de 8:00 h a 9:00 h (2€/niño)\nComedor: 14:00 h a 15:30 h (6\,50€/niño)\nTarde: de 15:30 h a 16:30 h (2€/niño)\n\nPrecio:\n       – ABONADOS: 7€ (incluye almuerzo)\n       – No abonado: 11€ (incluye almuerzo\nApúntate ya: \nhttps://reservas.clubdeocionudos.com/Page.aspx?id=14\n \n
URL:https://www.clubdeocionudos.com/evento/taller-dia-sin-cole-3/
CATEGORIES:familia,Ludoteca
ATTACH;FMTTYPE=image/jpeg:https://www.clubdeocionudos.com/wp-content/uploads/2020/03/WhatsApp-Image-2020-03-13-at-12.25.33.jpeg
ORGANIZER;CN="Club%20de%20Ocio%20Nudos":MAILTO:info@clubdeocionudos.com
END:VEVENT
END:VCALENDAR