BEGIN:VCALENDAR
VERSION:2.0
PRODID:-//Nudos - ECPv4.6.20.1//NONSGML v1.0//EN
CALSCALE:GREGORIAN
METHOD:PUBLISH
X-WR-CALNAME:Nudos
X-ORIGINAL-URL:https://www.clubdeocionudos.com
X-WR-CALDESC:Events for Nudos
BEGIN:VEVENT
DTSTART;TZID=Europe/Madrid:20181207T080000
DTEND;TZID=Europe/Madrid:20181207T153000
DTSTAMP:20260426T013600
CREATED:20181113T095255Z
LAST-MODIFIED:20181113T095604Z
UID:9353-1544169600-1544196600@www.clubdeocionudos.com
SUMMARY:Taller DÍA sin cole
DESCRIPTION:El PRÓXIMO Viernes 7 de diciembre de 2018 es\nDÍA “SIN COLE “\nTE ESPERAMOS en nuestro Taller con actividades deportivas\, manualidades\, bolera y recetas de cocina\,……..\nInscripciones en la recepción del Club.\nPincha aquí y descárgate la hoja de inscripción \n+ info: 926 23 30 90\n \n  \n
URL:https://www.clubdeocionudos.com/evento/taller-dia-sin-cole-2/
CATEGORIES:Escuela Nudos Kids,Ludoteca
ATTACH;FMTTYPE=image/jpeg:https://www.clubdeocionudos.com/wp-content/uploads/2018/11/dia-sin-cole-7-dic-2018.jpg
ORGANIZER;CN="Ludoteca":MAILTO:ludoteca@clubdeocionudos.com
END:VEVENT
END:VCALENDAR