BEGIN:VCALENDAR
VERSION:2.0
PRODID:-//Nudos - ECPv4.6.20.1//NONSGML v1.0//EN
CALSCALE:GREGORIAN
METHOD:PUBLISH
X-WR-CALNAME:Nudos
X-ORIGINAL-URL:https://www.clubdeocionudos.com
X-WR-CALDESC:Events for Nudos
BEGIN:VEVENT
DTSTART;TZID=Europe/Madrid:20211119T080000
DTEND;TZID=Europe/Madrid:20211119T153000
DTSTAMP:20260419T212915
CREATED:20211104T093605Z
LAST-MODIFIED:20211104T094225Z
UID:12017-1637308800-1637335800@www.clubdeocionudos.com
SUMMARY:Taller día de la enseñanza
DESCRIPTION:Ven a participar al taller que tenemos preparado el próximo 19 de noviembre en nuestra ludoteca\, para este día tenemos preparado un montón de actividades (jumping\, bolera\, deportes\, tiro con arco\, manualidades\, pintacaras\, …).\nPrecio:\n– ABONADOS: 10€/pax\n– No abonado: 12€/pax \nHorario: de 9:00 h a 14:00 h\nMatinal: de 8:00 h a 9:00 h (+3€/niñ@)\nComedor: 14:00 h a 15:30 (+7€/niñ@) \nRESERVAS Y PAGO EN EL WHATSAPP 639 611 204\n\n\n \n
URL:https://www.clubdeocionudos.com/evento/taller-dia-de-la-ensenanza-3/
CATEGORIES:Escuela Nudos Kids,Evento,familia,Ludoteca
ATTACH;FMTTYPE=image/jpeg:https://www.clubdeocionudos.com/wp-content/uploads/2021/11/taller-2021.jpg
ORGANIZER;CN="Club%20de%20Ocio%20Nudos":MAILTO:info@clubdeocionudos.com
END:VEVENT
END:VCALENDAR