BEGIN:VCALENDAR
VERSION:2.0
PRODID:-//Nudos - ECPv4.6.20.1//NONSGML v1.0//EN
CALSCALE:GREGORIAN
METHOD:PUBLISH
X-WR-CALNAME:Nudos
X-ORIGINAL-URL:https://www.clubdeocionudos.com
X-WR-CALDESC:Events for Nudos
BEGIN:VEVENT
DTSTART;TZID=Europe/Madrid:20180204T113000
DTEND;TZID=Europe/Madrid:20180204T140000
DTSTAMP:20260421T060448
CREATED:20180124T102657Z
LAST-MODIFIED:20180124T102657Z
UID:8405-1517743800-1517752800@www.clubdeocionudos.com
SUMMARY:Taller Carnaval
DESCRIPTION:¡Carnaval\, Carnaval…! No te pierdas el Taller de Carnaval que tanto gusta a los más pequeños\, donde crearemos bonitas y divertidas máscaras para disfrutar del carnaval de una manera única y original.\nTotalmente GRATUITO para abonados\n \n
URL:https://www.clubdeocionudos.com/evento/taller-carnaval/
CATEGORIES:Evento,Ludoteca
ATTACH;FMTTYPE=image/jpeg:https://www.clubdeocionudos.com/wp-content/uploads/2018/01/Cartel.jpg
ORGANIZER;CN="Club%20de%20Ocio%20Nudos":MAILTO:info@clubdeocionudos.com
END:VEVENT
END:VCALENDAR