BEGIN:VCALENDAR
VERSION:2.0
PRODID:-//Nudos - ECPv4.6.20.1//NONSGML v1.0//EN
CALSCALE:GREGORIAN
METHOD:PUBLISH
X-WR-CALNAME:Nudos
X-ORIGINAL-URL:https://www.clubdeocionudos.com
X-WR-CALDESC:Events for Nudos
BEGIN:VEVENT
DTSTART;VALUE=DATE:20250321
DTEND;VALUE=DATE:20250324
DTSTAMP:20260420T212403
CREATED:20250221T094218Z
LAST-MODIFIED:20250312T095644Z
UID:13428-1742515200-1742774399@www.clubdeocionudos.com
SUMMARY:TORNEO XI ANIVERSARIO CLUB DE OCIO NUDOS
DESCRIPTION:FECHA\n21/22/23 MARZO 2025\n‼‼IMPORTANTES PREMIOS VALORADOS EN MAS DE 4.000€‼‼ \n20€/persona\nWELCOME PACK\nCamiseta técnica \nCATEGORÍAS\n1° MASCULINA\n2° MASCULINA\n3° MASCULINA \nFEMENINA CATEGORÍA ÚNICA\nMIXTA CATEGORÍA ÚNICA\nCIERRE DE INSCRIPCIÓN\nMIÉRCOLES – 19 /03 \n———————————————– \nInscripción por teléfono \n666394335 Martín\n664046858 Carlos\n675912011 Recepción\nClub de Ocio Nudos \n \n\n
URL:https://www.clubdeocionudos.com/evento/se-viene-el-torneo-de-padel-xi-aniversario-de-club-de-ocio-nudos/
LOCATION:Carretera Nacional 430\, km 304\, Ciudad Real\, Ciudad Real\, 13005\, España
CATEGORIES:Clases Padel,Cursos Padel,Padel,Torneo de Padel
ATTACH;FMTTYPE=image/jpeg:https://www.clubdeocionudos.com/wp-content/uploads/2025/02/Imagen-de-WhatsApp-2025-03-04-a-las-10.53.16_0163eddd.jpg
END:VEVENT
END:VCALENDAR