BEGIN:VCALENDAR
VERSION:2.0
PRODID:-//Nudos - ECPv4.6.20.1//NONSGML v1.0//EN
CALSCALE:GREGORIAN
METHOD:PUBLISH
X-WR-CALNAME:Nudos
X-ORIGINAL-URL:https://www.clubdeocionudos.com
X-WR-CALDESC:Events for Nudos
BEGIN:VEVENT
DTSTART;TZID=Europe/Madrid:20161008T110000
DTEND;TZID=Europe/Madrid:20161009T140000
DTSTAMP:20260420T175524
CREATED:20160927T090649Z
LAST-MODIFIED:20161006T093928Z
UID:5184-1475924400-1476021600@www.clubdeocionudos.com
SUMMARY:Padeleros Viajeros
DESCRIPTION:Termina el plazo para apuntarse al torneo social PADELEROS VIAJEROS procedentes de Badajoz.\nNivel 2 ( del 5 superior al 1 )\nDos partidos\nFinalizaremos el torneo con unos refrigerios y tapas manchegas.\nConoce a gente\, disfruta del pádel social y pasa un fin de semana diferente.\nTe esperamos!!\nHoja de inscripción\n \n
URL:https://www.clubdeocionudos.com/evento/padeleros-viajeros/
LOCATION:Carretera Nacional 430\, km 304\, Ciudad Real\, Ciudad Real\, 13005\, España
CATEGORIES:Torneo de Padel
ATTACH;FMTTYPE=image/jpeg:https://www.clubdeocionudos.com/wp-content/uploads/2016/09/PADELEROS-VIAJEROS.jpg
ORGANIZER;CN="Club%20de%20Ocio%20Nudos":MAILTO:info@clubdeocionudos.com
END:VEVENT
END:VCALENDAR