BEGIN:VCALENDAR
VERSION:2.0
PRODID:-//Nudos - ECPv4.6.20.1//NONSGML v1.0//EN
CALSCALE:GREGORIAN
METHOD:PUBLISH
X-WR-CALNAME:Nudos
X-ORIGINAL-URL:https://www.clubdeocionudos.com
X-WR-CALDESC:Events for Nudos
BEGIN:VEVENT
DTSTART;VALUE=DATE:20221217
DTEND;VALUE=DATE:20221219
DTSTAMP:20260424T113439
CREATED:20221212T080415Z
LAST-MODIFIED:20221212T080524Z
UID:12500-1671235200-1671407999@www.clubdeocionudos.com
SUMMARY:Menú Fin de Semana
DESCRIPTION: \n
URL:https://www.clubdeocionudos.com/evento/menu-fin-de-semana/
CATEGORIES:Evento,Nudos Plaza
ATTACH;FMTTYPE=image/jpeg:https://www.clubdeocionudos.com/wp-content/uploads/2022/12/MENUS-fin-de-semana-17y18.jpg
ORGANIZER;CN="Club%20de%20Ocio%20Nudos":MAILTO:info@clubdeocionudos.com
END:VEVENT
END:VCALENDAR