BEGIN:VCALENDAR
VERSION:2.0
PRODID:-//Nudos - ECPv4.6.20.1//NONSGML v1.0//EN
CALSCALE:GREGORIAN
METHOD:PUBLISH
X-WR-CALNAME:Nudos
X-ORIGINAL-URL:https://www.clubdeocionudos.com
X-WR-CALDESC:Events for Nudos
BEGIN:VEVENT
DTSTART;VALUE=DATE:20230318
DTEND;VALUE=DATE:20230320
DTSTAMP:20260421T212713
CREATED:20230315T074505Z
LAST-MODIFIED:20230316T105357Z
UID:12148-1679097600-1679270399@www.clubdeocionudos.com
SUMMARY:MENÚ Día del Padre en NudosPlaza
DESCRIPTION:Qué mejor para celebrar el día del padre que comer con los tuyos\, y en Nudos Plaza te lo queremos hacer más agradable ofreciéndote un menú especial por únicamente 18\,90 €/pax. \nMenú disponible los días 18 y 19 de Marzo en horario de comidas. \nReservas: Teléfono / Whatsapp 639611204 \n \n  \n
URL:https://www.clubdeocionudos.com/evento/menu-dia-del-padre-en-nudosplaza-3/
CATEGORIES:familia,Nudos Plaza
ATTACH;FMTTYPE=image/jpeg:https://www.clubdeocionudos.com/wp-content/uploads/2023/03/menu-dia-del-padre-18-19-marzo-2023.jpg
END:VEVENT
END:VCALENDAR