BEGIN:VCALENDAR
VERSION:2.0
PRODID:-//Nudos - ECPv4.6.20.1//NONSGML v1.0//EN
CALSCALE:GREGORIAN
METHOD:PUBLISH
X-WR-CALNAME:Nudos
X-ORIGINAL-URL:https://www.clubdeocionudos.com
X-WR-CALDESC:Events for Nudos
BEGIN:VEVENT
DTSTART;TZID=Europe/Madrid:20180203T080000
DTEND;TZID=Europe/Madrid:20180204T170000
DTSTAMP:20260420T184453
CREATED:20180105T115208Z
LAST-MODIFIED:20180214T101123Z
UID:8108-1517644800-1517763600@www.clubdeocionudos.com
SUMMARY:Master Final Ranking 2017
DESCRIPTION:En breve se publicarán las parejas clasificadas para disputar el Máster Final 2018\, se pueden consultar los puntos finales en el siguiente enlace: \nhttps://www.clubdeocionudos.com/ranking-club-de-ocio-nudos-2017-fase-3/ \nLas parejas clasificadas son (Se recuerda que los enfrentamientos son por parejas 1-8\, 2-7\, 3-6 y 4-5; en el cuadro principal irán por el mismo lado parejas 1-4 y 2-3): \n\n\n\n\nCUADRO FINAL CATEGORÍA FEMENINA\n\n\nCUADRO FINAL CATEGORÍA MASCULINA\n\n\nCUADRO FINAL CATEGORÍA MIXTA\n\n\n\n\n\n\n\n\n\n  \n \n
URL:https://www.clubdeocionudos.com/evento/master-final-ranking-2017/
LOCATION:Carretera Nacional 430\, km 304\, Ciudad Real\, Ciudad Real\, 13005\, España
CATEGORIES:Ranking
ATTACH;FMTTYPE=image/jpeg:https://www.clubdeocionudos.com/wp-content/uploads/2018/01/MASTER-FINAL-RED.jpg
ORGANIZER;CN="Club%20de%20Ocio%20Nudos":MAILTO:info@clubdeocionudos.com
END:VEVENT
END:VCALENDAR