BEGIN:VCALENDAR
VERSION:2.0
PRODID:-//Nudos - ECPv4.6.20.1//NONSGML v1.0//EN
CALSCALE:GREGORIAN
METHOD:PUBLISH
X-WR-CALNAME:Nudos
X-ORIGINAL-URL:https://www.clubdeocionudos.com
X-WR-CALDESC:Events for Nudos
BEGIN:VEVENT
DTSTART;VALUE=DATE:20210408
DTEND;VALUE=DATE:20210409
DTSTAMP:20260425T235549
CREATED:20210406T103535Z
LAST-MODIFIED:20210406T103535Z
UID:11843-1617840000-1617926399@www.clubdeocionudos.com
SUMMARY:Jueves DÍA DEL BOWLING
DESCRIPTION:JUEVES DÍA DEL BOWLING  en Club de Ocio Nudos. \n– Hamburguesa\, bebida y partida de bolos por tan solo 8.50€  \n
URL:https://www.clubdeocionudos.com/evento/jueves-dia-del-bowling/
CATEGORIES:Evento,Nudos Plaza
ATTACH;FMTTYPE=image/jpeg:https://www.clubdeocionudos.com/wp-content/uploads/2021/04/jueves-dia-de-bowling_2021.jpg
ORGANIZER;CN="Club%20de%20Ocio%20Nudos":MAILTO:info@clubdeocionudos.com
END:VEVENT
END:VCALENDAR