BEGIN:VCALENDAR
VERSION:2.0
PRODID:-//Nudos - ECPv4.6.20.1//NONSGML v1.0//EN
CALSCALE:GREGORIAN
METHOD:PUBLISH
X-WR-CALNAME:Nudos
X-ORIGINAL-URL:https://www.clubdeocionudos.com
X-WR-CALDESC:Events for Nudos
BEGIN:VEVENT
DTSTART;VALUE=DATE:20190614
DTEND;VALUE=DATE:20190624
DTSTAMP:20260420T213731
CREATED:20190522T100202Z
LAST-MODIFIED:20190616T152117Z
UID:9960-1560470400-1561334399@www.clubdeocionudos.com
SUMMARY:I Torneo Tenis CLÍNICA CENTRO
DESCRIPTION:Os presentamos con muchísima ilusión el 🏆 I Torneo de Tenis CLÍNICA CENTRO (fisioterapia avanzada)  que se celebrará del 14 al 23 de junio en Club de Ocio Nudos 🔝🎾\nYa se pueden consultar los cuadros y horarios de las categorías que van a disputarse pinchando en el siguiente enlace: PÁGINA DEL TORNEO\n  \n \n
URL:https://www.clubdeocionudos.com/evento/i-torneo-tenis-clinica-centro/
LOCATION:Carretera Nacional 430\, km 304\, Ciudad Real\, Ciudad Real\, 13005\, España
CATEGORIES:Actividades deportivas,Torneo de Tenis
ATTACH;FMTTYPE=image/jpeg:https://www.clubdeocionudos.com/wp-content/uploads/2019/05/cartel-tenis-v2.jpg
ORGANIZER;CN="Club%20de%20Ocio%20Nudos":MAILTO:info@clubdeocionudos.com
END:VEVENT
END:VCALENDAR