BEGIN:VCALENDAR
VERSION:2.0
PRODID:-//Nudos - ECPv4.6.20.1//NONSGML v1.0//EN
CALSCALE:GREGORIAN
METHOD:PUBLISH
X-WR-CALNAME:Nudos
X-ORIGINAL-URL:https://www.clubdeocionudos.com
X-WR-CALDESC:Events for Nudos
BEGIN:VEVENT
DTSTART;VALUE=DATE:20240815
DTEND;VALUE=DATE:20240824
DTSTAMP:20260420T195202
CREATED:20240806T085210Z
LAST-MODIFIED:20240806T085414Z
UID:13179-1723680000-1724457599@www.clubdeocionudos.com
SUMMARY:HORARIO GYM FERIAS 2024
DESCRIPTION:  \n  \n \n
URL:https://www.clubdeocionudos.com/evento/horario-gym-ferias-2024/
LOCATION:Dentro de las instalaciones de Nudos\, Gimnasio
ATTACH;FMTTYPE=image/jpeg:https://www.clubdeocionudos.com/wp-content/uploads/2024/08/horario-ferias-2024-2.jpg
END:VEVENT
END:VCALENDAR