BEGIN:VCALENDAR
VERSION:2.0
PRODID:-//Nudos - ECPv4.6.20.1//NONSGML v1.0//EN
CALSCALE:GREGORIAN
METHOD:PUBLISH
X-WR-CALNAME:Nudos
X-ORIGINAL-URL:https://www.clubdeocionudos.com
X-WR-CALDESC:Events for Nudos
BEGIN:VEVENT
DTSTART;TZID=Europe/Madrid:20150723T070000
DTEND;TZID=Europe/Madrid:20150723T233000
DTSTAMP:20260422T141758
CREATED:20150715T092459Z
LAST-MODIFIED:20150716T071927Z
UID:2337-1437634800-1437694200@www.clubdeocionudos.com
SUMMARY:Evento Lumber
DESCRIPTION:Jueves 23 de julio a partir de las 19:00 horas\, Lumber British te invita al I Clinic de Pádel\nDisfruta jugando con jugadores de WPT José Antonio García Diestro\, Teo Zapata y los hermanos Romero\nFinalizando con un partido exhibición y una masterclass de preparación de Gin-tonic.\nConfirma tu asistencia en nuestra recepción o en el tfno. 926233090 \nTe esperamos. \n \n
URL:https://www.clubdeocionudos.com/evento/evento-lumber/
LOCATION:Carretera Nacional 430\, km 304\, Ciudad Real\, Ciudad Real\, 13005\, España
ATTACH;FMTTYPE=image/jpeg:https://www.clubdeocionudos.com/wp-content/uploads/2015/07/cartel2.jpg
ORGANIZER;CN="Club%20de%20Ocio%20Nudos":MAILTO:info@clubdeocionudos.com
END:VEVENT
END:VCALENDAR