BEGIN:VCALENDAR
VERSION:2.0
PRODID:-//Nudos - ECPv4.6.20.1//NONSGML v1.0//EN
CALSCALE:GREGORIAN
METHOD:PUBLISH
X-WR-CALNAME:Nudos
X-ORIGINAL-URL:https://www.clubdeocionudos.com
X-WR-CALDESC:Events for Nudos
BEGIN:VEVENT
DTSTART;TZID=Europe/Madrid:20150330T090000
DTEND;TZID=Europe/Madrid:20150401T140000
DTSTAMP:20260420T222037
CREATED:20150310T120358Z
LAST-MODIFIED:20150310T152153Z
UID:1263-1427706000-1427896800@www.clubdeocionudos.com
SUMMARY:Escuela Semana Santa NudosKids 2015
DESCRIPTION:No pierdas la oportunidad de traer a tus hijos a la escuela de Semana Santa 2015\, los días 30\, 31 de marzo y 1 de abril. Tres días cargados de actividades y deporte (talleres\, manualidades\, juegos\, pádel\, tenis\,…) coordinadas por nuestros monitores. \n  \nEdad de 4 a 12 años \n  \nPrecios: \nAbonados 8 €/día  (50% de descuento en el tercer hermano presentando titulo de familia numerosa) \nNo abonados 10 €/día \n  \nPara mas información en el 926 23 30 90  ó en ludoteca@clubdeocionudos.com \n \n
URL:https://www.clubdeocionudos.com/evento/escuela-semana-santa-nudoskids-2015/
CATEGORIES:Escuela Nudos Kids
ATTACH;FMTTYPE=image/jpeg:https://www.clubdeocionudos.com/wp-content/uploads/2015/03/nudosKids.jpg
END:VEVENT
END:VCALENDAR