BEGIN:VCALENDAR
VERSION:2.0
PRODID:-//Nudos - ECPv4.6.20.1//NONSGML v1.0//EN
CALSCALE:GREGORIAN
METHOD:PUBLISH
X-WR-CALNAME:Nudos
X-ORIGINAL-URL:https://www.clubdeocionudos.com
X-WR-CALDESC:Events for Nudos
BEGIN:VEVENT
DTSTART;VALUE=DATE:20230621
DTEND;VALUE=DATE:20230907
DTSTAMP:20260419T191734
CREATED:20230425T182346Z
LAST-MODIFIED:20230706T090612Z
UID:12678-1687305600-1694044799@www.clubdeocionudos.com
SUMMARY:ESCUELA DE VERANO 2023
DESCRIPTION:¡VUELVE LA ESCUELA DE VERANO MÁS DIVERTIDA DE CIUDAD REAL!\nContamos con una gran variedad de actividades\, Jumping\, juegos de agua\, bolera\, padel\, tenis\, gymkana\, manualidades\, tiro con arco\, taller de cocina\,…\n¡¡Ningún día será igual que el anterior!!\nDesde el 21 de Junio hasta el 6 de Septiembre.\n¡¡DESCUENTO para primeras matriculas y abonados!!\nPincha aquí y descarga la hoja de inscripción   \n  \n  \n  \n  \n  \n  \n  \n  \n  \n  \n  \n
URL:https://www.clubdeocionudos.com/evento/escuela-de-verano-2023/
LOCATION:Carretera Nacional 430\, km 304\, Ciudad Real\, Ciudad Real\, 13005\, España
CATEGORIES:Actividades deportivas,Campus de Verano,Escuela Nudos Kids,Evento,familia,Ludoteca,Nudos Plaza
ATTACH;FMTTYPE=image/jpeg:https://www.clubdeocionudos.com/wp-content/uploads/2023/07/Escuela-verano-2023-ok.jpg
END:VEVENT
END:VCALENDAR