BEGIN:VCALENDAR
VERSION:2.0
PRODID:-//Nudos - ECPv4.6.20.1//NONSGML v1.0//EN
CALSCALE:GREGORIAN
METHOD:PUBLISH
X-WR-CALNAME:Nudos
X-ORIGINAL-URL:https://www.clubdeocionudos.com
X-WR-CALDESC:Events for Nudos
BEGIN:VEVENT
DTSTART;TZID=Europe/Madrid:20190624T090000
DTEND;TZID=Europe/Madrid:20190906T140000
DTSTAMP:20260420T004935
CREATED:20190405T092509Z
LAST-MODIFIED:20190828T103351Z
UID:9811-1561366800-1567778400@www.clubdeocionudos.com
SUMMARY:CAMPUS DE VERANO 2019
DESCRIPTION:¡¡Últimas plazas para la última semana del Campus de Verano 2019 de Club de Ocio Nudos!!\nEl campus de verano más divertido\, educativo y entretenido de Ciudad Real.\nY para terminar el campus a lo grande vamos a contar esta última semana (del 2 al 6 de sep) con una nueva actividad:\n\n\n\n\n\n«Programación y Robótica» impartida por la empresa\n\n\n\n\n\n\n\n1 hora diaria del 2 al 6 de septiembre\nEn esta actividad los niños aprenderán los conceptos básicos de programación y robótica mediante juegos. Este pequeño taller de 5 días proporcionará a los niños una base de alfabetización digital para edades tempranas. Además\, fomentará el desarrollo del pensamiento computacional de los pequeños.\nPlanificación del taller:\nLunes: Introducción a la programación mediante «serious games».\nMartes: Introducción a la robótica con LEGO WeDo (Transporte lunar)\nMiércoles: Competición de robótica con LEGO WeDo (Competición de fuerza con robots)\nJueves: Introducción a la programación con Scratch (Crea tu propio videojuego)\nViernes: Proyecto videojuego: «Carrera de obstáculos»\nLos principios pedagógicos utilizados en este curso están basados en los utilizados por la International Technology and Engineering Educators Asociation (ITEEA) y por la Computer Science Teachers Association (CSTA). \nA parte seguiremos contando con una gran variedad de actividades\, padel\, tenis\, Piscina\, Juegos de agua\, Jumping\, Bolera\, Nerf\, Deportes\, Gymkana…\n¡¡Ningún día será igual que el anterior!!\nInformación\, horarios e instrucciones para la inscripción online \nINSCRÍBETE AQUÍ \n  \n \n \n
URL:https://www.clubdeocionudos.com/evento/escuela-de-verano-2019/
CATEGORIES:Escuela Nudos Kids
ATTACH;FMTTYPE=image/jpeg:https://www.clubdeocionudos.com/wp-content/uploads/2019/04/cartel-ok.jpg
ORGANIZER;CN="Club%20de%20Ocio%20Nudos":MAILTO:info@clubdeocionudos.com
END:VEVENT
END:VCALENDAR