BEGIN:VCALENDAR
VERSION:2.0
PRODID:-//Nudos - ECPv4.6.20.1//NONSGML v1.0//EN
CALSCALE:GREGORIAN
METHOD:PUBLISH
X-WR-CALNAME:Nudos
X-ORIGINAL-URL:https://www.clubdeocionudos.com
X-WR-CALDESC:Events for Nudos
BEGIN:VEVENT
DTSTART;TZID=Europe/Madrid:20150622T080000
DTEND;TZID=Europe/Madrid:20150731T153000
DTSTAMP:20260420T110223
CREATED:20150427T075349Z
LAST-MODIFIED:20150615T085047Z
UID:1745-1434960000-1438356600@www.clubdeocionudos.com
SUMMARY:Escuela de Verano 2015
DESCRIPTION:● Edad de 4 años (nacidos en el 2011) a 12 años\n● Del 22 al 26 de Junio – 29 de Junio al 3 de Julio – 6 al 10 de Julio – 13 al 17 de Julio\n20 al 24 de Julio y del 27 al 31 de Julio.\n● Fecha máxima de inscripción: 14 de Junio\n● Actividades: Padel\, tenis\, piscina\, natación\, talleres\, juegos dirigidos\, bolos\,\njuegos bilingües\, zumba\, aquagym…\n● Horario de 9:00 a 14:00 con opción a servicio de mañanas de 8:00 a 9:00 y opción\na comedor de 14:00 a 15:30.\n● Precio abonado: 55€/semana. 50€/semana (si contratas dos semanas) y 45€/semana\n(si contratas tres o más semanas). Almuerzo incluido.\n● Precio no abonado: 65€/semana. 60€/semana (si contratas dos semanas) y 55€/semana\n(si contratas tres o más semanas). Almuerzo incluido.\n● Descuento del 50% en el tercer hermano\n● Servicio de mañana: 10€/semana\n● Servicio de comedor: 29\,75€/semana\n● Plazas limitadas\n● Reunión informativa a los padres el jueves 18 de junio a las 19:00 h \n \n  \n  \n  \n
URL:https://www.clubdeocionudos.com/evento/escuela-de-verano-2015/
CATEGORIES:Escuela Nudos Kids
ATTACH;FMTTYPE=image/png:https://www.clubdeocionudos.com/wp-content/uploads/2015/04/escuelaverano.png
END:VEVENT
END:VCALENDAR