BEGIN:VCALENDAR
VERSION:2.0
PRODID:-//Nudos - ECPv4.6.20.1//NONSGML v1.0//EN
CALSCALE:GREGORIAN
METHOD:PUBLISH
X-WR-CALNAME:Nudos
X-ORIGINAL-URL:https://www.clubdeocionudos.com
X-WR-CALDESC:Events for Nudos
BEGIN:VEVENT
DTSTART;TZID=Europe/Madrid:20161223T080000
DTEND;TZID=Europe/Madrid:20170105T140000
DTSTAMP:20260420T060728
CREATED:20161117T095037Z
LAST-MODIFIED:20161123T100144Z
UID:5481-1482480000-1483624800@www.clubdeocionudos.com
SUMMARY:Escuela de Navidad
DESCRIPTION:La Navidad es una de las celebraciones más importantes del año y a los niños les encanta. Por eso\, el día que les dan las vacaciones en la escuela infantil\, el espíritu navideño se cuela en Club de Ocio Nudos\, y da comienzo la Escuela de Navidad de NudosKids.\nDonde nuestros pequeños disfrutarán de actividades deportivas\, manualidades\, cantajuegos\, taller de cocina con recetas navideñas\, partida de bolos en nuestras pistas de Bowling\,…\n  \n \n  \nDescárgate y rellena la hoja de inscripción y entrégala junto al pago en la recepción del club \n \n  \n  \n  \n  \n\n
URL:https://www.clubdeocionudos.com/evento/escuela-de-navidad/
CATEGORIES:Escuela Nudos Kids
ATTACH;FMTTYPE=image/jpeg:https://www.clubdeocionudos.com/wp-content/uploads/2016/11/escuela-navidad-presentacion-web-ok.jpg
ORGANIZER;CN="Club%20de%20Ocio%20Nudos":MAILTO:info@clubdeocionudos.com
END:VEVENT
END:VCALENDAR