BEGIN:VCALENDAR
VERSION:2.0
PRODID:-//Nudos - ECPv4.6.20.1//NONSGML v1.0//EN
CALSCALE:GREGORIAN
METHOD:PUBLISH
X-WR-CALNAME:Nudos
X-ORIGINAL-URL:https://www.clubdeocionudos.com
X-WR-CALDESC:Events for Nudos
BEGIN:VEVENT
DTSTART;TZID=Europe/Madrid:20181226T090000
DTEND;TZID=Europe/Madrid:20190107T140000
DTSTAMP:20260420T023920
CREATED:20181212T114941Z
LAST-MODIFIED:20181212T115229Z
UID:9454-1545814800-1546869600@www.clubdeocionudos.com
SUMMARY:Escuela de Navidad 2018
DESCRIPTION:La Navidad es una de las celebraciones más importantes del año y a los niños les encanta. Por eso\, el día que les dan las vacaciones en la escuela infantil\, el espíritu navideño se cuela en Club de Ocio Nudos\, y da comienzo la Escuela de Navidad de NudosKids.\nDonde nuestros pequeños disfrutarán de actividades deportivas\, gymkanas\, manualidades\, jumping\, taller de cocina con recetas navideñas\, partida de bolos en nuestras pistas de Bowling\,…\n \nDescárgate y rellena la hoja de inscripción y entrégala junto al pago en la recepción del club \n \n
URL:https://www.clubdeocionudos.com/evento/escuela-de-navidad-2018/
CATEGORIES:Escuela Nudos Kids,Ludoteca
ATTACH;FMTTYPE=image/jpeg:https://www.clubdeocionudos.com/wp-content/uploads/2018/12/CARTEL-OK.jpg
ORGANIZER;CN="Club%20de%20Ocio%20Nudos":MAILTO:info@clubdeocionudos.com
END:VEVENT
END:VCALENDAR