BEGIN:VCALENDAR
VERSION:2.0
PRODID:-//Nudos - ECPv4.6.20.1//NONSGML v1.0//EN
CALSCALE:GREGORIAN
METHOD:PUBLISH
X-WR-CALNAME:Nudos
X-ORIGINAL-URL:https://www.clubdeocionudos.com
X-WR-CALDESC:Events for Nudos
BEGIN:VEVENT
DTSTART;TZID=Europe/Madrid:20180212T090000
DTEND;TZID=Europe/Madrid:20180213T140000
DTSTAMP:20260422T060201
CREATED:20180112T123153Z
LAST-MODIFIED:20180112T123153Z
UID:8127-1518426000-1518530400@www.clubdeocionudos.com
SUMMARY:ESCUELA CARNAVAL 2018
DESCRIPTION:¡ Que viene el carnaval!\n¡Ya llega la fiesta más divertida a NudosKids!\nDisfrázate y apúntate al taller de carnaval que hemos preparado para los días 12 y 13 de Febrero.\n¡¡¡TE ESPERAMOS!!!\n \nPincha aquí para descargarte la hoja de inscripción\n \n  \n
URL:https://www.clubdeocionudos.com/evento/escuela-carnaval-2018/
CATEGORIES:Escuela Nudos Kids,Evento
ATTACH;FMTTYPE=image/jpeg:https://www.clubdeocionudos.com/wp-content/uploads/2018/01/cartel-present.jpg
ORGANIZER;CN="Club%20de%20Ocio%20Nudos":MAILTO:info@clubdeocionudos.com
END:VEVENT
END:VCALENDAR