BEGIN:VCALENDAR
VERSION:2.0
PRODID:-//Nudos - ECPv4.6.20.1//NONSGML v1.0//EN
CALSCALE:GREGORIAN
METHOD:PUBLISH
X-WR-CALNAME:Nudos
X-ORIGINAL-URL:https://www.clubdeocionudos.com
X-WR-CALDESC:Events for Nudos
BEGIN:VEVENT
DTSTART;TZID=Europe/Madrid:20170217T220000
DTEND;TZID=Europe/Madrid:20170217T220000
DTSTAMP:20260420T100121
CREATED:20170130T104836Z
LAST-MODIFIED:20170203T090551Z
UID:5965-1487368800-1487368800@www.clubdeocionudos.com
SUMMARY:DESFILE FLAMENCO SARA NOGUERO
DESCRIPTION:El 17 de Febrero a partir de las 22:00 horas\, podrás disfrutar del DESFILE FLAMENCO DE SARA NOGUERO en la carpa de Club de Ocio Nudos.\nMÚSICA EN DIRECTO \nAl cante:  Ana López \nA la guitarra: Diego Rodrigo \nA la percusión: Javier Sanchez \nBailaora: Prado Jimenez \nTE ESPERAMOS… \n \n  \n  \n
URL:https://www.clubdeocionudos.com/evento/desfile-flamenco-sara-noguero/
LOCATION:Carretera Nacional 430\, km 304\, Ciudad Real\, Ciudad Real\, 13005\, España
CATEGORIES:Evento,Nudos Plaza
ATTACH;FMTTYPE=image/jpeg:https://www.clubdeocionudos.com/wp-content/uploads/2017/01/ENTRADA-1.jpg
END:VEVENT
END:VCALENDAR