BEGIN:VCALENDAR
VERSION:2.0
PRODID:-//Nudos - ECPv4.6.20.1//NONSGML v1.0//EN
CALSCALE:GREGORIAN
METHOD:PUBLISH
X-WR-CALNAME:Nudos
X-ORIGINAL-URL:https://www.clubdeocionudos.com
X-WR-CALDESC:Events for Nudos
BEGIN:VEVENT
DTSTART;TZID=Europe/Madrid:20180305T170000
DTEND;TZID=Europe/Madrid:20180305T190000
DTSTAMP:20260422T100249
CREATED:20180228T091037Z
LAST-MODIFIED:20180228T091037Z
UID:8559-1520269200-1520276400@www.clubdeocionudos.com
SUMMARY:Dance Fusion
DESCRIPTION:A partir del 5 de marzo todos los lunes nuestra amiga Vero llevará a cabo en nuestras instalaciones unas divertidas clases de DANCE FUSION\, más información e inscripciones en la recepción del club.\n \n
URL:https://www.clubdeocionudos.com/evento/dance-fusion/
LOCATION:Carretera Nacional 430\, km 304\, Ciudad Real\, Ciudad Real\, 13005\, España
CATEGORIES:Actividades deportivas,GYM,Ludoteca
ATTACH;FMTTYPE=image/png:https://www.clubdeocionudos.com/wp-content/uploads/2018/02/foto.png
ORGANIZER;CN="Club%20de%20Ocio%20Nudos":MAILTO:info@clubdeocionudos.com
END:VEVENT
END:VCALENDAR