BEGIN:VCALENDAR
VERSION:2.0
PRODID:-//Nudos - ECPv4.6.20.1//NONSGML v1.0//EN
CALSCALE:GREGORIAN
METHOD:PUBLISH
X-WR-CALNAME:Nudos
X-ORIGINAL-URL:https://www.clubdeocionudos.com
X-WR-CALDESC:Events for Nudos
BEGIN:VEVENT
DTSTART;TZID=Europe/Madrid:20180512T090000
DTEND;TZID=Europe/Madrid:20180513T120000
DTSTAMP:20260421T142852
CREATED:20180424T085154Z
LAST-MODIFIED:20180511T121321Z
UID:8735-1526115600-1526212800@www.clubdeocionudos.com
SUMMARY:COPA FEDERACIÓN DE MENORES
DESCRIPTION:¡¡YA PUEDES CONSULTAR LOS GRUPOS Y TURNOS DE JUEGO!!!\n\n\n\n\n\n\nLos grupos de 5/6 parejas se jugaran con partidos a un set.\nLos grupos de 4 parejas se jugarán con partidos a un set de 9 juegos.\nSe clasificarán para la final los dos mejores de cada grupo. Se disputará un partido normal\, pero si se llegase a un tercer set se jugaría un super-tie break.\nLos horarios de las finales podrán variar en función de la duración de la fase de grupos o si alguna pareja dobla en dos categorías.\n\n\n\n\n\n\n\n\n\n  \n¡¡¡LLEGA LA COPA FEDERACIÓN DE MENORES A CLUB DE OCIO NUDOS!!!\nDurante los días 12 y 13 de mayo se va a disputar en nuestro club la 5ª prueba de la Copa Federación para Menores de la Federación de Pádel de Castilla La Mancha.\nCATEGORÍAS \n\nPre-benjamín: 2010 – 2011.\nBenjamín: 2008 – 2009.\nAlevín: 2006 – 2007.\nInfantil: 2004 – 2005.\nCadete: 2002 – 2003.\nJunior: 2000 – 2001.\n\nINSCRIPCIONES: \n\nJugadores federados: 9 €.\nJugadores no federados: 10 €.\n\n  \n \n
URL:https://www.clubdeocionudos.com/evento/copa-federacion-de-menores/
LOCATION:Carretera Nacional 430\, km 304\, Ciudad Real\, Ciudad Real\, 13005\, España
CATEGORIES:Torneo de Padel
ATTACH;FMTTYPE=image/jpeg:https://www.clubdeocionudos.com/wp-content/uploads/2018/04/copa-federacion-clm.jpg
ORGANIZER;CN="Club%20de%20Ocio%20Nudos":MAILTO:info@clubdeocionudos.com
END:VEVENT
END:VCALENDAR