BEGIN:VCALENDAR
VERSION:2.0
PRODID:-//Nudos - ECPv4.6.20.1//NONSGML v1.0//EN
CALSCALE:GREGORIAN
METHOD:PUBLISH
X-WR-CALNAME:Nudos
X-ORIGINAL-URL:https://www.clubdeocionudos.com
X-WR-CALDESC:Events for Nudos
BEGIN:VEVENT
DTSTART;TZID=Europe/Madrid:20171005T220000
DTEND;TZID=Europe/Madrid:20171005T220000
DTSTAMP:20260425T154852
CREATED:20170927T070947Z
LAST-MODIFIED:20170928T074329Z
UID:7429-1507240800-1507240800@www.clubdeocionudos.com
SUMMARY:Concierto Merche
DESCRIPTION:El Jueves 5 de octubre llega a Club de Ocio Nudos un nuevo «escenario Dial» con la impresionante Merche.\nYa puedes recoger tu invitación en la recepción de nuestro club\, en la Cadena Dial de Ciudad Real o en el concesionario Ford Serramotor.\n \n
URL:https://www.clubdeocionudos.com/evento/concierto-merche/
LOCATION:Carretera Nacional 430\, km 304\, Ciudad Real\, Ciudad Real\, 13005\, España
CATEGORIES:Evento,Nudos Plaza
ATTACH;FMTTYPE=image/jpeg:https://www.clubdeocionudos.com/wp-content/uploads/2017/09/web-MERCHE-.jpg
END:VEVENT
END:VCALENDAR