BEGIN:VCALENDAR
VERSION:2.0
PRODID:-//Nudos - ECPv4.6.20.1//NONSGML v1.0//EN
CALSCALE:GREGORIAN
METHOD:PUBLISH
X-WR-CALNAME:Nudos
X-ORIGINAL-URL:https://www.clubdeocionudos.com
X-WR-CALDESC:Events for Nudos
BEGIN:VEVENT
DTSTART;TZID=Europe/Madrid:20200330T180000
DTEND;TZID=Europe/Madrid:20200330T190000
DTSTAMP:20260425T114008
CREATED:20200330T095606Z
LAST-MODIFIED:20200330T095606Z
UID:11445-1585591200-1585594800@www.clubdeocionudos.com
SUMMARY:Clase en Directo – GP (glúteos y piernas)
DESCRIPTION:Nuestra monitora María del Carmen nos ofrecerá una sesión de acondicionamiento y tonificación  de glúteos y piernas\, con diferentes ejercicios. Utilizando movimientos naturales tales como carrera\, saltos\, sentadillas\, zancadas\,  etc. No conocemos otra manera de tonificar Glúteo y Piernas de una forma más eficaz. Lleva tu estética a un nivel superior. \n📅 Lunes 30 \n⌚️ 18:00h. \n¡Te esperamos! \nPuedes seguir nuestras clases en directos en nuestro perfil de instagram https://www.instagram.com/clubdeocionudos/ \n#yomequedoencasa \n \n
URL:https://www.clubdeocionudos.com/evento/clase-en-directo-gp-gluteos-y-piernas/
CATEGORIES:Actividades deportivas,GYM
ATTACH;FMTTYPE=image/jpeg:https://www.clubdeocionudos.com/wp-content/uploads/2020/03/stories-GP-MARI.jpg
ORGANIZER;CN="Gym%20Nudos":MAILTO:gym@clubdeocionudos.com
END:VEVENT
END:VCALENDAR