BEGIN:VCALENDAR
VERSION:2.0
PRODID:-//Nudos - ECPv4.6.20.1//NONSGML v1.0//EN
CALSCALE:GREGORIAN
METHOD:PUBLISH
X-WR-CALNAME:Nudos
X-ORIGINAL-URL:https://www.clubdeocionudos.com
X-WR-CALDESC:Events for Nudos
BEGIN:VEVENT
DTSTART;TZID=Europe/Madrid:20200327T180000
DTEND;TZID=Europe/Madrid:20200327T190000
DTSTAMP:20260422T144500
CREATED:20200317T120300Z
LAST-MODIFIED:20200323T131906Z
UID:11376-1585332000-1585335600@www.clubdeocionudos.com
SUMMARY:Clase en Directo - Balance
DESCRIPTION:Relájate con nosotros. Nuestro monitor @carlosgalianafit impartirá en directo una clase de BALANCE\, actividad inspirada en YOGA\, TAI CHI y PILATES que mejora la Flexibilidad\, la Fuerza y te aporta una sensación de calma armonía y bienestar. \n📅 Viernes 27 \n⌚️ 18:00h. \n¡No te lo pierdas! \n#yomequedoencasa \n \n
URL:https://www.clubdeocionudos.com/evento/clase-en-directo-balance/
CATEGORIES:Actividades deportivas,GYM
ATTACH;FMTTYPE=image/jpeg:https://www.clubdeocionudos.com/wp-content/uploads/2020/03/stories-balance-carlos.jpg
ORGANIZER;CN="Gym%20Nudos":MAILTO:gym@clubdeocionudos.com
END:VEVENT
END:VCALENDAR