BEGIN:VCALENDAR
VERSION:2.0
PRODID:-//Nudos - ECPv4.6.20.1//NONSGML v1.0//EN
CALSCALE:GREGORIAN
METHOD:PUBLISH
X-WR-CALNAME:Nudos
X-ORIGINAL-URL:https://www.clubdeocionudos.com
X-WR-CALDESC:Events for Nudos
BEGIN:VEVENT
DTSTART;TZID=Europe/Madrid:20151219T213000
DTEND;TZID=Europe/Madrid:20151219T235500
DTSTAMP:20260424T084431
CREATED:20151122T120030Z
LAST-MODIFIED:20151214T095509Z
UID:3353-1450560600-1450569300@www.clubdeocionudos.com
SUMMARY:Cena de Navidad Club de Ocio Nudos
DESCRIPTION:Club de Ocio Nudos tiene el placer de ofrecer a nuestros clientes una cena navideña que tendrá lugar en la carpa el 19 de diciembre a partir de las 21:30. \nPhotocall – Música – Copas – Premios torneo navidad \nPara todos los asistentes a la cena se sorteará 3 cruceros de lujo MSC \nNo olvides reservar tu plaza \n \n \n
URL:https://www.clubdeocionudos.com/evento/cena-de-navidad-club-de-ocio-nudos/
LOCATION:Carretera Nacional 430\, km 304\, Ciudad Real\, Ciudad Real\, 13005\, España
CATEGORIES:Evento
ATTACH;FMTTYPE=image/jpeg:https://www.clubdeocionudos.com/wp-content/uploads/2015/11/cenanavidadcartel.jpg
ORGANIZER;CN="Club%20de%20Ocio%20Nudos":MAILTO:info@clubdeocionudos.com
END:VEVENT
END:VCALENDAR