BEGIN:VCALENDAR
VERSION:2.0
PRODID:-//Nudos - ECPv4.6.20.1//NONSGML v1.0//EN
CALSCALE:GREGORIAN
METHOD:PUBLISH
X-WR-CALNAME:Nudos
X-ORIGINAL-URL:https://www.clubdeocionudos.com
X-WR-CALDESC:Events for Nudos
BEGIN:VEVENT
DTSTART;TZID=Europe/Madrid:20220226T193000
DTEND;TZID=Europe/Madrid:20220226T223000
DTSTAMP:20260419T212420
CREATED:20220213T185835Z
LAST-MODIFIED:20220213T185835Z
UID:12132-1645903800-1645914600@www.clubdeocionudos.com
SUMMARY:CARNAVAL 2022 - FIESTA DE DISFRACES
DESCRIPTION:¡EL CARNAVAL LLEGA A CLUB DE OCIO NUDOS!\nEl sábado 26 de Febrero en nuestra ludoteca tenemos preparada una divertida fiesta de Carnaval. \nConcurso de disfraces\, caramelos\, chuches\, música\, baile\, pintacaras\,… y muchas sorpresas más. \nGRATIS para abonados Precio no abonados: 5€/niñ@ Edad de 3 a 14 años \n El aforo será limitado\, reserva tu entrada en el 639 611 204 \n \n  \n  \n  \n
URL:https://www.clubdeocionudos.com/evento/carnaval-2022-fiesta-de-disfraces/
CATEGORIES:Evento,Ludoteca
ATTACH;FMTTYPE=image/jpeg:https://www.clubdeocionudos.com/wp-content/uploads/2022/02/fiesta-disfraces-2022.jpg
END:VEVENT
END:VCALENDAR