BEGIN:VCALENDAR
VERSION:2.0
PRODID:-//Nudos - ECPv4.6.20.1//NONSGML v1.0//EN
CALSCALE:GREGORIAN
METHOD:PUBLISH
X-WR-CALNAME:Nudos
X-ORIGINAL-URL:https://www.clubdeocionudos.com
X-WR-CALDESC:Events for Nudos
BEGIN:VEVENT
DTSTART;TZID=Europe/Madrid:20180414T113000
DTEND;TZID=Europe/Madrid:20180415T133000
DTSTAMP:20260422T034541
CREATED:20180406T095324Z
LAST-MODIFIED:20180406T095324Z
UID:8704-1523705400-1523799000@www.clubdeocionudos.com
SUMMARY:Americanos absolutos y menores Jardiman
DESCRIPTION:¡¡Americanos para todas las categorías el fin de semana de 14 al 15 de abril!!\nObsequio de regalo por Jardiman\n\n\nSÁBADO 14 DE ABRIL:\n\n11:30 – 13:30: Americano absoluto masculino por parejas.\n17:30 – 19:30 Americano menores de 14 años individual.\n\n\nDOMINGO 15 DE ABRIL\n\n11:30 – 13:30: Americano femenino absoluto individual nivel inferior a 2\,5.\n\n\n\n \n\n
URL:https://www.clubdeocionudos.com/evento/americanos-absolutos-y-menores-jardiman/
LOCATION:Carretera Nacional 430\, km 304\, Ciudad Real\, Ciudad Real\, 13005\, España
CATEGORIES:Americano Padel
ATTACH;FMTTYPE=image/jpeg:https://www.clubdeocionudos.com/wp-content/uploads/2018/04/AMERICANO-JARDIMAN.jpg
ORGANIZER;CN="Club%20de%20Ocio%20Nudos":MAILTO:info@clubdeocionudos.com
END:VEVENT
END:VCALENDAR