BEGIN:VCALENDAR
VERSION:2.0
PRODID:-//Nudos - ECPv4.6.20.1//NONSGML v1.0//EN
CALSCALE:GREGORIAN
METHOD:PUBLISH
X-WR-CALNAME:Nudos
X-ORIGINAL-URL:https://www.clubdeocionudos.com
X-WR-CALDESC:Events for Nudos
BEGIN:VEVENT
DTSTART;VALUE=DATE:20210621
DTEND;VALUE=DATE:20210904
DTSTAMP:20260419T231047
CREATED:20210510T085013Z
LAST-MODIFIED:20210520T082750Z
UID:11867-1624233600-1630713599@www.clubdeocionudos.com
SUMMARY:Campamento de verano KIDS
DESCRIPTION:Abierto plazo de inscripción para el Campamento de Verano de Club de Ocio Nudos 2021\, la escuela de verano más divertida\, educativa y entretenida de Ciudad Real. \nContamos con una gran variedad de actividades\, padel\, tenis\, Bolera\, Jumping\, juegos de agua\, Fitball\, juegos tradicionales\, Gymkana\, Zumba\, manualidades\, pintacaras… \n¡¡Ningún día será igual que el anterior!! \nDesde el 21 de Junio hasta el 3 de Septiembre. \n  \nHOJA INFORMATIVA \n  \n \n\nReserva tu plaza entregando la hoja de inscripción en las oficinas del club.\n \n  \n  \n
URL:https://www.clubdeocionudos.com/evento/11867/
LOCATION:Carretera Nacional 430\, km 304\, Ciudad Real\, Ciudad Real\, 13005\, España
CATEGORIES:Escuela Nudos Kids,familia,Ludoteca
ATTACH;FMTTYPE=image/jpeg:https://www.clubdeocionudos.com/wp-content/uploads/2021/05/escuelaok.jpeg
ORGANIZER;CN="Club%20de%20Ocio%20Nudos":MAILTO:info@clubdeocionudos.com
END:VEVENT
END:VCALENDAR