BEGIN:VCALENDAR
VERSION:2.0
PRODID:-//Nudos - ECPv4.6.20.1//NONSGML v1.0//EN
CALSCALE:GREGORIAN
METHOD:PUBLISH
X-WR-CALNAME:Nudos
X-ORIGINAL-URL:https://www.clubdeocionudos.com
X-WR-CALDESC:Events for Nudos
BEGIN:VEVENT
DTSTART;TZID=Europe/Madrid:20201122T120000
DTEND;TZID=Europe/Madrid:20201122T140000
DTSTAMP:20260422T100443
CREATED:20201116T120118Z
LAST-MODIFIED:20201116T120521Z
UID:11711-1606046400-1606053600@www.clubdeocionudos.com
SUMMARY:🇺🇸🚺🎾 AMERICANO DE PÁDEL FEMENINO x PAREJAS
DESCRIPTION:DOM 22 de NOV de 12h a 14h \nJuega y diviértete con gente diferente\n2hrs de partidos\, bolas nuevas\, bebidas y picoteo al final\nAPÚNTATE CON TU PAREJA\nPrecio\n6\,00 € x jugador no abonado\n4\,50 € x jugador abonado \n☎️\n666394335 Martin\n664046858 Carlos\n675912001 Recepcion \n \n
URL:https://www.clubdeocionudos.com/evento/%f0%9f%87%ba%f0%9f%87%b8%f0%9f%9a%ba-americano-de-padel-femenino-x-parejas/
LOCATION:Carretera Nacional 430\, km 304\, Ciudad Real\, Ciudad Real\, 13005\, España
CATEGORIES:Americano Padel,Torneo de Padel
ATTACH;FMTTYPE=image/jpeg:https://www.clubdeocionudos.com/wp-content/uploads/2020/11/WhatsApp-Image-2020-11-16-at-12.23.18.jpeg
END:VEVENT
END:VCALENDAR